BEGIN:VCALENDAR
VERSION:2.0
PRODID:-//hacksw/handcal//NONSGML v1.0//EN
CALSCALE:GREGORIAN
BEGIN:VEVENT
ORGANIZER;CN=Ocugen, Inc.:MAILTO:no-reply@gcs-web.com
DTEND:
UID:f11fbc98-9c85-46b4-8229-8b1c6784d549
DTSTAMP:1777129803
LOCATION:https://ir.ocugen.com/events/event-details/cell-gene-meeting-med
DESCRIPTION:Event Details https://ir.ocugen.com/events/event-details/cell-gene-meeting-med
URL;VALUE=URI:https://ir.ocugen.com/events/event-details/cell-gene-meeting-med
SUMMARY:Ocugen, Inc. - The Cell & Gene Meeting on the Med
DTSTART:20260428T143000Z
END:VEVENT
END:VCALENDAR